BEGIN:VCALENDAR
VERSION:2.0
PRODID:-//eventon.com NONSGML v1.0//EN
BEGIN:VEVENT
UID:69ea2f9f3c68f
DTSTAMP:20260423T104135
DTSTART:20260425T210000Z
DTEND:20260425T230000Z
LOCATION:Centre d&#039;exposition de Val-David 2495\,  rue de l'Église
SUMMARY:Jad Orphée - Je dors la lumière allumée
DESCRIPTION: Sortie de résidence Musique pop baroque\,  jazz levantin Entrée libre
END:VEVENT
END:VCALENDAR