BEGIN:VCALENDAR
VERSION:2.0
PRODID:-//eventon.com NONSGML v1.0//EN
BEGIN:VEVENT
UID:69e73e04e2709
DTSTAMP:20260421T050612
DTSTART:20251129T140000Z
DTEND:20251130T210000Z
LOCATION:
SUMMARY:Salon des artisans de Val-David !
DESCRIPTION: COMMUNIQUÉ : Samedi 29 et dimanche 30 novembre 2025 | 10 h à 17 h Un événement des plus attendus dans les Laurentides pour amorcer la période des fêtes. C’est une occasion parfaite pour se procurer une panoplie de produits originaux de grande qualité conçus par des artisans québécois de[..]
END:VEVENT
END:VCALENDAR